{
 "currentVersion": 10.81,
 "serviceDescription": "",
 "mapName": "Layers",
 "description": "",
 "copyrightText": "",
 "supportsDynamicLayers": true,
 "layers": [
  {
   "id": 0,
   "name": "Demography",
   "parentLayerId": -1,
   "defaultVisibility": true,
   "subLayerIds": null,
   "minScale": 0,
   "maxScale": 0,
   "type": "Feature Layer",
   "geometryType": "esriGeometryPolygon"
  }
 ],
 "tables": [],
 "spatialReference": {
  "wkid": 102658,
  "latestWkid": 2236
 },
 "singleFusedMapCache": true,
 "tileInfo": {
  "rows": 512,
  "cols": 512,
  "dpi": 96,
  "format": "PNG32",
  "compressionQuality": 0,
  "origin": {
   "x": -17791300,
   "y": 23981100
  },
  "spatialReference": {
   "wkid": 102658,
   "latestWkid": 2236
  },
  "lods": [
   {
    "level": 0,
    "resolution": 321.180555555556,
    "scale": 370000
   },
   {
    "level": 1,
    "resolution": 266.666666666667,
    "scale": 307200
   },
   {
    "level": 2,
    "resolution": 133.333333333333,
    "scale": 153600
   },
   {
    "level": 3,
    "resolution": 66.6666666666667,
    "scale": 76800
   },
   {
    "level": 4,
    "resolution": 33.3333333333333,
    "scale": 38400
   },
   {
    "level": 5,
    "resolution": 16.6666666666667,
    "scale": 19200
   },
   {
    "level": 6,
    "resolution": 8.33333333333333,
    "scale": 9600
   },
   {
    "level": 7,
    "resolution": 4.16666666666667,
    "scale": 4800
   },
   {
    "level": 8,
    "resolution": 2.08333333333333,
    "scale": 2400
   },
   {
    "level": 9,
    "resolution": 1.04166666666667,
    "scale": 1200
   },
   {
    "level": 10,
    "resolution": 0.520833333333333,
    "scale": 600
   },
   {
    "level": 11,
    "resolution": 0.260416666666667,
    "scale": 300
   }
  ]
 },
 "initialExtent": {
  "xmin": 478816.0970641846,
  "ymin": 1511043.9481867286,
  "xmax": 625951.5137308514,
  "ymax": 1618335.6148533951,
  "spatialReference": {
   "wkid": 102658,
   "latestWkid": 2236
  }
 },
 "fullExtent": {
  "xmin": 444812.8925306611,
  "ymin": 1459071.0697568208,
  "xmax": 697786.8583664969,
  "ymax": 1618993.708900407,
  "spatialReference": {
   "wkid": 102658,
   "latestWkid": 2236
  }
 },
 "minScale": 370000,
 "maxScale": 300,
 "units": "esriFeet",
 "supportedImageFormatTypes": "PNG32,PNG24,PNG,JPG,DIB,TIFF,EMF,PS,PDF,GIF,SVG,SVGZ,BMP",
 "documentInfo": {
  "Title": "",
  "Author": "",
  "Comments": "",
  "Subject": "",
  "Category": "",
  "AntialiasingMode": "None",
  "TextAntialiasingMode": "Force",
  "Keywords": ""
 },
 "capabilities": "Map",
 "supportedQueryFormats": "JSON, geoJSON",
 "exportTilesAllowed": false,
 "referenceScale": 0,
 "supportsDatumTransformation": true,
 "maxRecordCount": 1000,
 "maxImageHeight": 4096,
 "maxImageWidth": 4096,
 "supportedExtensions": "",
 "resampling": false,
 "serviceItemId": "7b60648d25ae47458bf09b9232d7c17c"
}
