{
 "currentVersion": 10.81,
 "serviceDescription": "Description",
 "mapName": "Layers",
 "description": "",
 "copyrightText": "Orange County Property Appraiser. This map is for reference only and is not a survey.",
 "supportsDynamicLayers": false,
 "layers": [
  {
   "id": 0,
   "name": "_alllayers",
   "parentLayerId": -1,
   "defaultVisibility": true,
   "subLayerIds": [
    1,
    4,
    5,
    6,
    7
   ],
   "minScale": 0,
   "maxScale": 0,
   "type": "Group Layer"
  },
  {
   "id": 1,
   "name": "Anno",
   "parentLayerId": 0,
   "defaultVisibility": true,
   "subLayerIds": [
    2
   ],
   "minScale": 0,
   "maxScale": 0,
   "type": "Group Layer"
  },
  {
   "id": 2,
   "name": "Counties_Bording_L0",
   "parentLayerId": 1,
   "defaultVisibility": true,
   "subLayerIds": [
    3
   ],
   "minScale": 0,
   "maxScale": 0,
   "type": "Annotation Layer",
   "geometryType": "esriGeometryPolygon"
  },
  {
   "id": 3,
   "name": "Other County",
   "parentLayerId": 2,
   "defaultVisibility": true,
   "subLayerIds": null,
   "minScale": 0,
   "maxScale": 0
  },
  {
   "id": 4,
   "name": "COUNTIES_BORDERING_ORANGE",
   "parentLayerId": 0,
   "defaultVisibility": true,
   "subLayerIds": null,
   "minScale": 0,
   "maxScale": 0,
   "type": "Feature Layer",
   "geometryType": "esriGeometryPolygon"
  },
  {
   "id": 5,
   "name": "*COUNTIES_BORDERING_ORANGE",
   "parentLayerId": 0,
   "defaultVisibility": false,
   "subLayerIds": null,
   "minScale": 0,
   "maxScale": 0,
   "type": "Feature Layer",
   "geometryType": "esriGeometryPolygon"
  },
  {
   "id": 6,
   "name": "*Roadway_Simple",
   "parentLayerId": 0,
   "defaultVisibility": true,
   "subLayerIds": null,
   "minScale": 0,
   "maxScale": 0,
   "type": "Feature Layer",
   "geometryType": "esriGeometryPolyline"
  },
  {
   "id": 7,
   "name": "*US_FishWildlifeWetlands_Simple",
   "parentLayerId": 0,
   "defaultVisibility": true,
   "subLayerIds": null,
   "minScale": 0,
   "maxScale": 0,
   "type": "Feature Layer",
   "geometryType": "esriGeometryPolygon"
  }
 ],
 "tables": [],
 "spatialReference": {
  "wkid": 102658,
  "latestWkid": 2236
 },
 "singleFusedMapCache": true,
 "tileInfo": {
  "rows": 512,
  "cols": 512,
  "dpi": 96,
  "format": "JPEG",
  "compressionQuality": 75,
  "origin": {
   "x": -17791300,
   "y": 23981100
  },
  "spatialReference": {
   "wkid": 102658,
   "latestWkid": 2236
  },
  "lods": [
   {
    "level": 0,
    "resolution": 321.180555555556,
    "scale": 370000
   },
   {
    "level": 1,
    "resolution": 266.666666666667,
    "scale": 307200
   },
   {
    "level": 2,
    "resolution": 133.333333333333,
    "scale": 153600
   },
   {
    "level": 3,
    "resolution": 66.6666666666667,
    "scale": 76800
   },
   {
    "level": 4,
    "resolution": 33.3333333333333,
    "scale": 38400
   },
   {
    "level": 5,
    "resolution": 16.6666666666667,
    "scale": 19200
   },
   {
    "level": 6,
    "resolution": 8.33333333333333,
    "scale": 9600
   },
   {
    "level": 7,
    "resolution": 4.16666666666667,
    "scale": 4800
   },
   {
    "level": 8,
    "resolution": 2.08333333333333,
    "scale": 2400
   },
   {
    "level": 9,
    "resolution": 1.04166666666667,
    "scale": 1200
   },
   {
    "level": 10,
    "resolution": 0.520833333333333,
    "scale": 600
   }
  ]
 },
 "initialExtent": {
  "xmin": 362379.86128251685,
  "ymin": 1631143.456621035,
  "xmax": 785377.9058963432,
  "ymax": 1666521.474897828,
  "spatialReference": {
   "wkid": 102658,
   "latestWkid": 2236
  }
 },
 "fullExtent": {
  "xmin": 252682.6252364474,
  "ymin": 1201442.3750115037,
  "xmax": 855303.7200058607,
  "ymax": 1852674.1252500042,
  "spatialReference": {
   "wkid": 102658,
   "latestWkid": 2236
  }
 },
 "minScale": 370000,
 "maxScale": 600,
 "units": "esriFeet",
 "supportedImageFormatTypes": "PNG32,PNG24,PNG,JPG,DIB,TIFF,EMF,PS,PDF,GIF,SVG,SVGZ,BMP",
 "documentInfo": {
  "Title": "Orange County Property Appraiser Base Map",
  "Author": "GIS TEAM",
  "Comments": "Description",
  "Subject": "ProMap",
  "Category": "",
  "AntialiasingMode": "None",
  "TextAntialiasingMode": "Force",
  "Keywords": "AG,Annotation,Arrows,BCC,BLDG,Block,BORDERING,Boundry,Brick,Care,CARTO,Center,Count,COUNTIES,County,CR,CURT,Default,DOR,DQ,Fill,Fire,Future,Golf,Hospitals,Hydro,Icons,Interstate,JURIS,Labeled,Labels,Lakes,Line,Lines"
 },
 "capabilities": "Map,Query,Data",
 "supportedQueryFormats": "JSON, geoJSON",
 "hasVersionedData": true,
 "exportTilesAllowed": false,
 "referenceScale": 0,
 "datumTransformations": [
  {
   "geoTransforms": [
    {
     "wkid": 108001,
     "latestWkid": 1241,
     "transformForward": true,
     "name": "NAD_1927_To_NAD_1983_NADCON"
    }
   ]
  },
  {
   "geoTransforms": [
    {
     "wkid": 108001,
     "latestWkid": 1241,
     "transformForward": false,
     "name": "NAD_1927_To_NAD_1983_NADCON"
    }
   ]
  }
 ],
 "supportsDatumTransformation": true,
 "maxRecordCount": 1000,
 "maxImageHeight": 4096,
 "maxImageWidth": 4096,
 "supportedExtensions": "",
 "resampling": false,
 "serviceItemId": "6008b8fb9140442fad14e0950523d25b"
}
