{
 "currentVersion": 10.81,
 "serviceDescription": "Plss for Webmap",
 "mapName": "Layers",
 "description": "",
 "copyrightText": "",
 "supportsDynamicLayers": true,
 "layers": [
  {
   "id": 0,
   "name": "Plss Points",
   "parentLayerId": -1,
   "defaultVisibility": false,
   "subLayerIds": null,
   "minScale": 0,
   "maxScale": 0,
   "type": "Feature Layer",
   "geometryType": "esriGeometryPoint"
  },
  {
   "id": 1,
   "name": "Plss Poly",
   "parentLayerId": -1,
   "defaultVisibility": false,
   "subLayerIds": null,
   "minScale": 0,
   "maxScale": 0,
   "type": "Feature Layer",
   "geometryType": "esriGeometryPolygon"
  },
  {
   "id": 2,
   "name": "Sections",
   "parentLayerId": -1,
   "defaultVisibility": false,
   "subLayerIds": null,
   "minScale": 0,
   "maxScale": 0,
   "type": "Feature Layer",
   "geometryType": "esriGeometryPolygon"
  },
  {
   "id": 3,
   "name": "RT Poly",
   "parentLayerId": -1,
   "defaultVisibility": false,
   "subLayerIds": null,
   "minScale": 0,
   "maxScale": 0,
   "type": "Feature Layer",
   "geometryType": "esriGeometryPolygon"
  },
  {
   "id": 4,
   "name": "Range Township",
   "parentLayerId": -1,
   "defaultVisibility": false,
   "subLayerIds": null,
   "minScale": 0,
   "maxScale": 0,
   "type": "Feature Layer",
   "geometryType": "esriGeometryPolygon"
  }
 ],
 "tables": [],
 "spatialReference": {
  "wkid": 102658,
  "latestWkid": 2236
 },
 "singleFusedMapCache": true,
 "tileInfo": {
  "rows": 512,
  "cols": 512,
  "dpi": 96,
  "format": "PNG24",
  "compressionQuality": 0,
  "origin": {
   "x": -17791300,
   "y": 23981100
  },
  "spatialReference": {
   "wkid": 102658,
   "latestWkid": 2236
  },
  "lods": [
   {
    "level": 0,
    "resolution": 321.18055555555554,
    "scale": 370000
   },
   {
    "level": 1,
    "resolution": 266.66666666666663,
    "scale": 307200
   },
   {
    "level": 2,
    "resolution": 133.33333333333331,
    "scale": 153600
   },
   {
    "level": 3,
    "resolution": 66.66666666666666,
    "scale": 76800
   },
   {
    "level": 4,
    "resolution": 33.33333333333333,
    "scale": 38400
   },
   {
    "level": 5,
    "resolution": 16.666666666666664,
    "scale": 19200
   },
   {
    "level": 6,
    "resolution": 8.333333333333332,
    "scale": 9600
   },
   {
    "level": 7,
    "resolution": 4.166666666666666,
    "scale": 4800
   },
   {
    "level": 8,
    "resolution": 2.083333333333333,
    "scale": 2400
   },
   {
    "level": 9,
    "resolution": 1.0416666666666665,
    "scale": 1200
   },
   {
    "level": 10,
    "resolution": 0.5208333333333333,
    "scale": 600
   }
  ]
 },
 "initialExtent": {
  "xmin": 446004.26555978163,
  "ymin": 1427513.4752404138,
  "xmax": 696749.7389538928,
  "ymax": 1650560.3207595942,
  "spatialReference": {
   "wkid": 102658,
   "latestWkid": 2236
  }
 },
 "fullExtent": {
  "xmin": 444811.5016800016,
  "ymin": 1459071.0300000012,
  "xmax": 699360.9198959991,
  "ymax": 1619005.8999829963,
  "spatialReference": {
   "wkid": 102658,
   "latestWkid": 2236
  }
 },
 "minScale": 0,
 "maxScale": 0,
 "units": "esriFeet",
 "supportedImageFormatTypes": "PNG32,PNG24,PNG,JPG,DIB,TIFF,EMF,PS,PDF,GIF,SVG,SVGZ,BMP",
 "documentInfo": {
  "Title": "",
  "Author": "",
  "Comments": "",
  "Subject": "",
  "Category": "",
  "AntialiasingMode": "None",
  "TextAntialiasingMode": "Force",
  "Keywords": "Plss,Webmap"
 },
 "capabilities": "Map,Query,Data",
 "supportedQueryFormats": "JSON, geoJSON",
 "exportTilesAllowed": false,
 "referenceScale": 0,
 "supportsDatumTransformation": true,
 "maxRecordCount": 1000,
 "maxImageHeight": 4096,
 "maxImageWidth": 4096,
 "supportedExtensions": "",
 "serviceItemId": "3629672961ae4157ac26a27ff2f0def5"
}
